BEGIN:VCALENDAR
VERSION:2.0
PRODID:-//85.13.146.64//NONSGML kigkonsult.se iCalcreator 2.20//
CALSCALE:GREGORIAN
METHOD:PUBLISH
X-WR-TIMEZONE:Europe/Berlin
BEGIN:VEVENT
UID:event260@Frauenbund Freyung
DTSTAMP:20260422T082717Z
CATEGORIES:Veranstaltung
DESCRIPTION:Tagesfahrt nach Zwiesel\nKategorie: Veranstaltung\nICS-Link: ht
 tps://frauenbund-freyung.de/index.php?option=com_jem&view=event&id=260:tag
 esfahrt-nach-zwiesel\n
DTSTART;TZID=Europe/Berlin:20260321T093000
DTEND;TZID=Europe/Berlin:20260321T093000
SUMMARY:Tagesfahrt nach Zwiesel
URL:https://frauenbund-freyung.de/index.php?option=com_jem&view=event&id=26
 0:tagesfahrt-nach-zwiesel
END:VEVENT
END:VCALENDAR
