BEGIN:VCALENDAR
VERSION:2.0
PRODID:-//85.13.146.64//NONSGML kigkonsult.se iCalcreator 2.20//
CALSCALE:GREGORIAN
METHOD:PUBLISH
X-WR-TIMEZONE:Europe/Berlin
BEGIN:VEVENT
UID:event217@Frauenbund Freyung
DTSTAMP:20260420T073913Z
CATEGORIES:Veranstaltung
DESCRIPTION:Freyunger Schlossfest\nKategorie: Veranstaltung\nICS-Link: http
 s://frauenbund-freyung.de/index.php?option=com_jem&view=event&id=217:freyu
 nger-schlossfest\n
DTSTART;TZID=Europe/Berlin:20240906T173000
DTEND;TZID=Europe/Berlin:20240908T173000
SUMMARY:Freyunger Schlossfest
URL:https://frauenbund-freyung.de/index.php?option=com_jem&view=event&id=21
 7:freyunger-schlossfest
END:VEVENT
END:VCALENDAR
